BEGIN:VCALENDAR
VERSION:2.0
PRODID:-//BNSL - Business Networking South Leicestershire - ECPv6.15.20//NONSGML v1.0//EN
CALSCALE:GREGORIAN
METHOD:PUBLISH
X-WR-CALNAME:BNSL - Business Networking South Leicestershire
X-ORIGINAL-URL:https://businessnetworkingleicestershire.co.uk
X-WR-CALDESC:Events for BNSL - Business Networking South Leicestershire
REFRESH-INTERVAL;VALUE=DURATION:PT1H
X-Robots-Tag:noindex
X-PUBLISHED-TTL:PT1H
BEGIN:VTIMEZONE
TZID:Europe/London
BEGIN:DAYLIGHT
TZOFFSETFROM:+0000
TZOFFSETTO:+0100
TZNAME:BST
DTSTART:20250330T010000
END:DAYLIGHT
BEGIN:STANDARD
TZOFFSETFROM:+0100
TZOFFSETTO:+0000
TZNAME:GMT
DTSTART:20251026T010000
END:STANDARD
BEGIN:DAYLIGHT
TZOFFSETFROM:+0000
TZOFFSETTO:+0100
TZNAME:BST
DTSTART:20260329T010000
END:DAYLIGHT
BEGIN:STANDARD
TZOFFSETFROM:+0100
TZOFFSETTO:+0000
TZNAME:GMT
DTSTART:20261025T010000
END:STANDARD
BEGIN:DAYLIGHT
TZOFFSETFROM:+0000
TZOFFSETTO:+0100
TZNAME:BST
DTSTART:20270328T010000
END:DAYLIGHT
BEGIN:STANDARD
TZOFFSETFROM:+0100
TZOFFSETTO:+0000
TZNAME:GMT
DTSTART:20271031T010000
END:STANDARD
END:VTIMEZONE
BEGIN:VEVENT
DTSTART;TZID=Europe/London:20260423T080000
DTEND;TZID=Europe/London:20260423T090000
DTSTAMP:20260423T121741
CREATED:20260309T140509Z
LAST-MODIFIED:20260309T140509Z
UID:10000056-1776931200-1776934800@businessnetworkingleicestershire.co.uk
SUMMARY:10 Minute Presentation – Member – Helen Davies - Creature Comforts Upholstery
DESCRIPTION:10 Minute Presentation – Member – Helen Davies – Creature Comforts Upholstery \nThis weeks  presentation will be by 10 Minute Presentation – Member – Helen Davies – Creature Comforts Upholstery – https://www.creaturecomfortsupholstery.co.uk/
URL:https://businessnetworkingleicestershire.co.uk/event/10-minute-presentation-member-helen-davies-creature-comforts-upholstery/
ATTACH;FMTTYPE=image/jpeg:https://businessnetworkingleicestershire.co.uk/wp-content/uploads/2026/03/BNSL-PRESENTATION-GRAPHIC-Helen.jpg
END:VEVENT
END:VCALENDAR